BEGIN:VCALENDAR
VERSION:2.0
PRODID:-//hacksw/handcal//NONSGML v1.0//EN
BEGIN:VEVENT
UID:event_3597@bridgefinland.fi
DTSTAMP:20260423T111834Z
DTSTART;TZID=Europe/Helsinki:20260607T101500
DTEND;TZID=Europe/Helsinki:20260607T111500
SUMMARY:43. Tammerbridge Tournament MP-Joukkue
END:VEVENT
END:VCALENDAR
